BEGIN:VCALENDAR
VERSION:2.0
PRODID:-//eventon.com NONSGML v1.0//EN
CALSCALE:GREGORIAN
METHOD:PUBLISH
BEGIN:VEVENT
UID:69e8a0fad849a
DTSTAMP:20260422T102042Z
DTSTART:20260417T193000Z
DTEND:20260417T235000Z
LOCATION:
SUMMARY:Harfenkonzert Zainab Lax und Arezoo Rezvani
DESCRIPTION:Aufgrund des Wunsches vieler Konzertbesucher freuen wir uns noc
 hmals das Duo aus Harfenistin und Santur-Spielerin präsentieren zu dürfen
 . Harfe und Santur erschaffen eine zauberhafte musikalische Reise zwischen 
 Tradition und Moderne!Zainab Lax ist eine vielseitige Multi-Instrumentalist
 in\,  die seit ihrem siebten Lebensjahr Harfe spielt und ihre musikalische 
 Reise um Instrumente wie die[..]\nhttps://zollstocker-buergerverein.de/even
 ts/harfenkonzert-zainab-lax-und-arezoo-rezvani/
URL:https://zollstocker-buergerverein.de/events/harfenkonzert-zainab-lax-und-arezoo-rezvani/
END:VEVENT
END:VCALENDAR