BEGIN:VCALENDAR
VERSION:2.0
PRODID:-//eventon.com NONSGML v1.0//EN
CALSCALE:GREGORIAN
METHOD:PUBLISH
BEGIN:VEVENT
UID:69eb52c59b480
DTSTAMP:20260424T112349Z
DTSTART:20260529T090000Z
DTEND:20260529T235000Z
LOCATION:
SUMMARY:Ausflug zur Landesgartenschau in Neuss
DESCRIPTION:Der Bürgerverein Zollstock lädt herzlich zu einer gemeinsamen
  Busfahrt zur Landesgartenschau nach Neuss ein. Am 29. Mai starten wir in Z
 ollstock und besuchen die Landesgartenschau\,  die mit vielfältigen Angebo
 ten begeistert.Uns erwarten abwechslungsreiche Spazier-gänge durch inspiri
 erende Pflanzenschauen. Man kann von der See-Terrasse über Rosengärten un
 d einem Olivengarten wandern oder sich auch[..]\nhttps://zollstocker-buerge
 rverein.de/events/ausflug-zur-landesgartenschau-in-neuss/
URL:https://zollstocker-buergerverein.de/events/ausflug-zur-landesgartenschau-in-neuss/
END:VEVENT
END:VCALENDAR