BEGIN:VCALENDAR
VERSION:2.0
PRODID:-//eventon.com NONSGML v1.0//EN
CALSCALE:GREGORIAN
METHOD:PUBLISH
BEGIN:VEVENT
UID:69e4c9b2a87bc
DTSTAMP:20260419T122522Z
DTSTART:20260618T190000Z
DTEND:20260618T210000Z
LOCATION:
SUMMARY:Bürgerstammtisch
DESCRIPTION:Am 18. Juni lädt der Bürgerverein erneut zum Bürgerstammtisc
 h ein. Das konkrete Thema wird noch bekannt gegebenAlle Interessierten sind
  eingeladen\,  in offener Atmosphäre miteinander ins Gespräch zu kommen.\
 nhttps://zollstocker-buergerverein.de/events/buergerstammtisch-2/
URL:https://zollstocker-buergerverein.de/events/buergerstammtisch-2/
END:VEVENT
END:VCALENDAR